BEGIN:VCALENDAR
VERSION:2.0
PRODID:-//CERN//INDICO//EN
BEGIN:VEVENT
SUMMARY:42nd Australasian Conference on Combinatorial Mathematics and Comb
 inatorial Computing
DTSTART;VALUE=DATE-TIME:20191208T223000Z
DTEND;VALUE=DATE-TIME:20191213T060000Z
DTSTAMP;VALUE=DATE-TIME:20210224T132302Z
UID:indico-event-4@test.indico.science.unsw.edu.au
DESCRIPTION:ACCMCC is the annual conference of the Combinatorial Mathemati
 cs Society of Australasia and covers all areas of combinatorics in mathema
 tics and computer science. The 42nd ACCMCC will be held at the University 
 of New South Wales in Sydney\, Australia\, on 9 - 13 December 2019. \n\nPl
 enary speakers:\n\n\n	Michael Albert\, University of Otago\, New Zealand\n
 	Camilla Hollanti\, Aalto University\, Finland\n	Ken-ichi Kawarabayashi\, 
 National Institute of Informatics\, Japan\n	Cheryl Praeger\, University of
  Western Australia\n	Wojciech Samotij\, Tel Aviv University\, Israel\n	May
 a Stein\, Universidad de Chile\, Chile\n	Stéphan Thomassé\, École Norma
 le Supérieure de Lyon\, France\n\n\nOrganising Committee:\n\n\n	Julian Ab
 el\n	Haris Aziz\n	Thomas Britz\n	Diana Combe\n	Serge Gaspers\n	Catherine G
 reenhill (Chair)\n	Anita Liebenau\n\n\nSponsors\n\n           \n\nSc
 hool of Mathematics and Statistics\n\nSchool of Computer Science and Engin
 eering.\n\nhttps://test.indico.science.unsw.edu.au/event/4/
LOCATION:
URL:https://test.indico.science.unsw.edu.au/event/4/
END:VEVENT
END:VCALENDAR
